BEGIN:VCALENDAR
VERSION:2.0
PRODID:icalendar-ruby
CALSCALE:GREGORIAN
METHOD:PUBLISH
BEGIN:VEVENT
DTSTAMP:20260420T051218Z
UID:9-1395939@ccdouglaston.org
DTSTART:20260725T234500Z
DTEND:20260726T010000Z
CLASS:PUBLIC
CREATED:20260419T221728
DESCRIPTION:Meeting of the local chapter of AA. Alcoholics Anonymous is an 
 international mutual aid fellowship with the stated purpose of enabling it
 s members to "stay sober and help other alcoholics achieve sobriety." AA i
 s nonprofessional\, non-denominational\, self-supporting\, and apolitical.
  Its only membership requirement is a desire to stop drinking.\nA 24 hour 
 hotline is available at 718-520-5021.\nFor information on all meetings and
  phone numbers in your area follow this link: https://www.nyintergroup.org
 /meetings/\n\n
LAST-MODIFIED:20260419T221728
LOCATION:3950 Douglaston Parkway\, Douglaston\, NY\, 11363 
SUMMARY:Alcoholics Anonymous
URL;VALUE=URI:https://ccdouglaston.org/events/alcoholics-anonymous--9/2026-
 07-25
ATTACH;FILENAME=AA-meetingWeb.png;FMTTYPE=image/png:https://dq5pwpg1q8ru0.c
 loudfront.net/2024/01/24/15/59/47/979c3507-fb2d-4732-8ab5-e08dcd86795a/AA-
 meetingWeb.png
END:VEVENT
END:VCALENDAR
